Package: biocGraph Version: 1.69.0 Command: chmod a+r biocGraph -R && E:\biocbuild\bbs-3.21-bioc\R\bin\R.exe CMD build --keep-empty-dirs --no-resave-data biocGraph StartedAt: 2025-02-04 17:25:53 -0500 (Tue, 04 Feb 2025) EndedAt: 2025-02-04 17:26:56 -0500 (Tue, 04 Feb 2025) EllapsedTime: 62.7 seconds RetCode: 0 Status: OK PackageFile: biocGraph_1.69.0.tar.gz PackageFileSize: 448.7 KiB