Package: biocGraph Version: 1.69.0 Command: E:\biocbuild\bbs-3.21-bioc\R\bin\R.exe CMD INSTALL biocGraph StartedAt: 2025-02-04 16:17:02 -0500 (Tue, 04 Feb 2025) EndedAt: 2025-02-04 16:17:19 -0500 (Tue, 04 Feb 2025) EllapsedTime: 17.1 seconds RetCode: 0 Status: OK