Package: biocViews Version: 1.75.0 Command: rm -rf biocViews.buildbin-libdir && mkdir biocViews.buildbin-libdir && /Users/biocbuild/BBS/utils/build-universal.sh biocViews_1.75.0.tar.gz /Library/Frameworks/R.framework/Resources/bin/R biocViews.buildbin-libdir StartedAt: 2025-02-09 22:07:26 -0500 (Sun, 09 Feb 2025) EndedAt: 2025-02-09 22:07:31 -0500 (Sun, 09 Feb 2025) EllapsedTime: 5.1 seconds RetCode: 0 Status: OK PackageFile: biocViews_1.75.0.tgz PackageFileSize: 890.6 KiB