Package: biocViews Version: 1.75.0 Command: /Library/Frameworks/R.framework/Resources/bin/R CMD build --keep-empty-dirs --no-resave-data biocViews StartedAt: 2025-02-09 15:41:18 -0500 (Sun, 09 Feb 2025) EndedAt: 2025-02-09 15:41:24 -0500 (Sun, 09 Feb 2025) EllapsedTime: 6.1 seconds RetCode: 0 Status: OK PackageFile: biocViews_1.75.0.tar.gz PackageFileSize: 506.9 KiB