Package: biocViews Version: 1.75.0 Command: rm -rf biocViews.buildbin-libdir && mkdir biocViews.buildbin-libdir && /Users/biocbuild/BBS/utils/build-universal.sh biocViews_1.75.0.tar.gz /Library/Frameworks/R.framework/Resources/bin/R biocViews.buildbin-libdir StartedAt: 2025-02-10 00:43:57 -0500 (Mon, 10 Feb 2025) EndedAt: 2025-02-10 00:44:12 -0500 (Mon, 10 Feb 2025) EllapsedTime: 15.2 seconds RetCode: 0 Status: OK PackageFile: biocViews_1.75.0.tgz PackageFileSize: 888.4 KiB