Package: biocViews Version: 1.75.0 Command: /Library/Frameworks/R.framework/Resources/bin/R CMD INSTALL biocViews StartedAt: 2025-02-09 15:07:17 -0500 (Sun, 09 Feb 2025) EndedAt: 2025-02-09 15:07:45 -0500 (Sun, 09 Feb 2025) EllapsedTime: 27.1 seconds RetCode: 0 Status: OK