Package: biocViews Version: 1.75.0 Command: rm -rf biocViews.buildbin-libdir && mkdir biocViews.buildbin-libdir && E:\biocbuild\bbs-3.21-bioc\R\bin\R.exe CMD INSTALL --build --library=biocViews.buildbin-libdir biocViews_1.75.0.tar.gz StartedAt: 2025-02-10 07:18:38 -0500 (Mon, 10 Feb 2025) EndedAt: 2025-02-10 07:19:32 -0500 (Mon, 10 Feb 2025) EllapsedTime: 54.6 seconds RetCode: 0 Status: OK PackageFile: biocViews_1.75.0.zip PackageFileSize: 900.1 KiB