Package: biocViews Version: 1.75.0 Command: E:\biocbuild\bbs-3.21-bioc\R\bin\R.exe CMD INSTALL biocViews StartedAt: 2025-02-09 15:27:38 -0500 (Sun, 09 Feb 2025) EndedAt: 2025-02-09 15:28:19 -0500 (Sun, 09 Feb 2025) EllapsedTime: 40.9 seconds RetCode: 0 Status: OK