############################################################################## ############################################################################## ### ### Running command: ### ### rm -rf biocmake.buildbin-libdir && mkdir biocmake.buildbin-libdir && /Users/biocbuild/BBS/utils/build-universal.sh biocmake_0.99.0.tar.gz /Library/Frameworks/R.framework/Resources/bin/R biocmake.buildbin-libdir ### ############################################################################## ############################################################################## >>>>>>> >>>>>>> INSTALLATION WITH 'R CMD INSTALL --preclean --no-multiarch --library=biocmake.buildbin-libdir biocmake_0.99.0.tar.gz' >>>>>>> * installing *source* package ‘biocmake’ ... ** this is package ‘biocmake’ version ‘0.99.0’ ** using staged installation ** R ** inst ** byte-compile and prepare package for lazy loading ** help *** installing help indices ** building package indices ** installing vignettes ** testing if installed package can be loaded from temporary location ** testing if installed package can be loaded from final location ** testing if installed package keeps a record of temporary installation path * DONE (biocmake)