Package: biocmake Version: 0.99.0 Command: /Library/Frameworks/R.framework/Resources/bin/R CMD check --install=check:biocmake.install-out.txt --library=/Library/Frameworks/R.framework/Resources/library --no-vignettes --timings biocmake_0.99.0.tar.gz StartedAt: 2025-02-09 18:15:49 -0500 (Sun, 09 Feb 2025) EndedAt: 2025-02-09 18:16:03 -0500 (Sun, 09 Feb 2025) EllapsedTime: 14.2 seconds RetCode: 0 Status: OK CheckDir: biocmake.Rcheck Warnings: 0