Package: biocmake Version: 0.99.0 Command: rm -rf biocmake.buildbin-libdir && mkdir biocmake.buildbin-libdir && /Users/biocbuild/BBS/utils/build-universal.sh biocmake_0.99.0.tar.gz /Library/Frameworks/R.framework/Resources/bin/R biocmake.buildbin-libdir StartedAt: 2025-02-10 00:43:50 -0500 (Mon, 10 Feb 2025) EndedAt: 2025-02-10 00:43:55 -0500 (Mon, 10 Feb 2025) EllapsedTime: 4.6 seconds RetCode: 0 Status: OK PackageFile: biocmake_0.99.0.tgz PackageFileSize: 241.3 KiB