Package: biocmake Version: 0.99.0 Command: /Library/Frameworks/R.framework/Resources/bin/R CMD build --keep-empty-dirs --no-resave-data biocmake StartedAt: 2025-02-09 16:02:44 -0500 (Sun, 09 Feb 2025) EndedAt: 2025-02-09 16:02:54 -0500 (Sun, 09 Feb 2025) EllapsedTime: 10.3 seconds RetCode: 0 Status: OK PackageFile: biocmake_0.99.0.tar.gz PackageFileSize: 222.4 KiB