Package: biocmake Version: 0.99.0 Command: rm -rf biocmake.buildbin-libdir && mkdir biocmake.buildbin-libdir && E:\biocbuild\bbs-3.21-bioc\R\bin\R.exe CMD INSTALL --build --library=biocmake.buildbin-libdir biocmake_0.99.0.tar.gz StartedAt: 2025-02-10 07:17:51 -0500 (Mon, 10 Feb 2025) EndedAt: 2025-02-10 07:18:01 -0500 (Mon, 10 Feb 2025) EllapsedTime: 10.6 seconds RetCode: 0 Status: OK PackageFile: biocmake_0.99.0.zip PackageFileSize: 246.2 KiB