Package: biocroxytest Version: 1.3.0 Command: /Library/Frameworks/R.framework/Resources/bin/R CMD check --install=check:biocroxytest.install-out.txt --library=/Library/Frameworks/R.framework/Resources/library --no-vignettes --timings biocroxytest_1.3.0.tar.gz StartedAt: 2025-02-04 18:16:33 -0500 (Tue, 04 Feb 2025) EndedAt: 2025-02-04 18:16:47 -0500 (Tue, 04 Feb 2025) EllapsedTime: 14.2 seconds RetCode: 0 Status: OK CheckDir: biocroxytest.Rcheck Warnings: 0