Package: biocroxytest Version: 1.3.0 Command: /Library/Frameworks/R.framework/Resources/bin/R CMD INSTALL biocroxytest StartedAt: 2025-02-04 15:03:26 -0500 (Tue, 04 Feb 2025) EndedAt: 2025-02-04 15:03:34 -0500 (Tue, 04 Feb 2025) EllapsedTime: 7.9 seconds RetCode: 0 Status: OK