Package: biocroxytest Version: 1.3.0 Command: /home/biocbuild/bbs-3.21-bioc/R/bin/R CMD INSTALL biocroxytest StartedAt: 2025-02-09 15:07:59 -0500 (Sun, 09 Feb 2025) EndedAt: 2025-02-09 15:08:17 -0500 (Sun, 09 Feb 2025) EllapsedTime: 17.7 seconds RetCode: 0 Status: OK