Package: biocroxytest Version: 1.3.0 Command: chmod a+r biocroxytest -R && E:\biocbuild\bbs-3.21-bioc\R\bin\R.exe CMD build --keep-empty-dirs --no-resave-data biocroxytest StartedAt: 2025-02-09 17:29:18 -0500 (Sun, 09 Feb 2025) EndedAt: 2025-02-09 17:29:35 -0500 (Sun, 09 Feb 2025) EllapsedTime: 17.4 seconds RetCode: 0 Status: OK PackageFile: biocroxytest_1.3.0.tar.gz PackageFileSize: 2.493 MiB