Package: biocroxytest Version: 1.3.0 Command: E:\biocbuild\bbs-3.21-bioc\R\bin\R.exe CMD check --no-multiarch --install=check:biocroxytest.install-out.txt --library=E:\biocbuild\bbs-3.21-bioc\R\library --no-vignettes --timings biocroxytest_1.3.0.tar.gz StartedAt: 2025-02-09 23:01:09 -0500 (Sun, 09 Feb 2025) EndedAt: 2025-02-09 23:01:50 -0500 (Sun, 09 Feb 2025) EllapsedTime: 41.5 seconds RetCode: 0 Status: OK CheckDir: biocroxytest.Rcheck Warnings: 0