Package: biocroxytest Version: 1.3.0 Command: E:\biocbuild\bbs-3.21-bioc\R\bin\R.exe CMD INSTALL biocroxytest StartedAt: 2025-02-04 15:25:51 -0500 (Tue, 04 Feb 2025) EndedAt: 2025-02-04 15:26:04 -0500 (Tue, 04 Feb 2025) EllapsedTime: 13.7 seconds RetCode: 0 Status: OK