Package: biodbHmdb Version: 1.13.0 Command: rm -rf biodbHmdb.buildbin-libdir && mkdir biodbHmdb.buildbin-libdir && /Users/biocbuild/BBS/utils/build-universal.sh biodbHmdb_1.13.0.tar.gz /Library/Frameworks/R.framework/Resources/bin/R biodbHmdb.buildbin-libdir StartedAt: 2025-02-09 22:07:29 -0500 (Sun, 09 Feb 2025) EndedAt: 2025-02-09 22:07:42 -0500 (Sun, 09 Feb 2025) EllapsedTime: 13.3 seconds RetCode: 0 Status: OK PackageFile: biodbHmdb_1.13.0.tgz PackageFileSize: 670.8 KiB