Package: biodbHmdb Version: 1.13.0 Command: /Library/Frameworks/R.framework/Resources/bin/R CMD build --keep-empty-dirs --no-resave-data biodbHmdb StartedAt: 2025-02-09 15:41:45 -0500 (Sun, 09 Feb 2025) EndedAt: 2025-02-09 15:41:59 -0500 (Sun, 09 Feb 2025) EllapsedTime: 14.2 seconds RetCode: 0 Status: OK PackageFile: biodbHmdb_1.13.0.tar.gz PackageFileSize: 405.9 KiB