Package: biodbHmdb Version: 1.13.0 Command: /Library/Frameworks/R.framework/Resources/bin/R CMD check --install=check:biodbHmdb.install-out.txt --library=/Library/Frameworks/R.framework/Resources/library --no-vignettes --timings biodbHmdb_1.13.0.tar.gz StartedAt: 2025-02-03 18:52:57 -0500 (Mon, 03 Feb 2025) EndedAt: 2025-02-03 18:53:17 -0500 (Mon, 03 Feb 2025) EllapsedTime: 19.2 seconds RetCode: 1 Status: ERROR CheckDir: biodbHmdb.Rcheck Warnings: NA