Package: biodbHmdb Version: 1.13.0 Command: /Library/Frameworks/R.framework/Resources/bin/R CMD INSTALL biodbHmdb StartedAt: 2025-02-09 15:19:07 -0500 (Sun, 09 Feb 2025) EndedAt: 2025-02-09 15:19:18 -0500 (Sun, 09 Feb 2025) EllapsedTime: 11.4 seconds RetCode: 0 Status: OK