Package: biodbHmdb Version: 1.13.0 Command: /home/biocbuild/R/R/bin/R CMD build --keep-empty-dirs --no-resave-data biodbHmdb StartedAt: 2025-01-28 21:16:36 -0000 (Tue, 28 Jan 2025) EndedAt: 2025-01-28 21:17:36 -0000 (Tue, 28 Jan 2025) EllapsedTime: 60.0 seconds RetCode: 0 Status: OK PackageFile: biodbHmdb_1.13.0.tar.gz PackageFileSize: 470.5 KiB