Package: biodbHmdb Version: 1.13.0 Command: /home/biocbuild/R/R/bin/R CMD INSTALL biodbHmdb StartedAt: 2025-01-29 20:16:41 -0000 (Wed, 29 Jan 2025) EndedAt: 2025-01-29 20:17:37 -0000 (Wed, 29 Jan 2025) EllapsedTime: 55.7 seconds RetCode: 0 Status: OK