Package: biodbHmdb Version: 1.13.0 Command: rm -rf biodbHmdb.buildbin-libdir && mkdir biodbHmdb.buildbin-libdir && /Users/biocbuild/BBS/utils/build-universal.sh biodbHmdb_1.13.0.tar.gz /Library/Frameworks/R.framework/Resources/bin/R biodbHmdb.buildbin-libdir StartedAt: 2025-02-10 00:43:59 -0500 (Mon, 10 Feb 2025) EndedAt: 2025-02-10 00:44:50 -0500 (Mon, 10 Feb 2025) EllapsedTime: 50.7 seconds RetCode: 0 Status: OK PackageFile: biodbHmdb_1.13.0.tgz PackageFileSize: 693.3 KiB