Package: biodbHmdb Version: 1.13.0 Command: /Library/Frameworks/R.framework/Resources/bin/R CMD INSTALL biodbHmdb StartedAt: 2025-02-09 15:30:53 -0500 (Sun, 09 Feb 2025) EndedAt: 2025-02-09 15:31:39 -0500 (Sun, 09 Feb 2025) EllapsedTime: 45.8 seconds RetCode: 0 Status: OK