Package: biodbHmdb Version: 1.13.0 Command: /home/biocbuild/bbs-3.21-bioc/R/bin/R CMD build --keep-empty-dirs --no-resave-data biodbHmdb StartedAt: 2025-02-09 16:23:26 -0500 (Sun, 09 Feb 2025) EndedAt: 2025-02-09 16:24:08 -0500 (Sun, 09 Feb 2025) EllapsedTime: 42.1 seconds RetCode: 0 Status: OK PackageFile: biodbHmdb_1.13.0.tar.gz PackageFileSize: 405.8 KiB