Package: biodbHmdb Version: 1.13.0 Command: /home/biocbuild/bbs-3.21-bioc/R/bin/R CMD check --install=check:biodbHmdb.install-out.txt --library=/home/biocbuild/bbs-3.21-bioc/R/site-library --timings biodbHmdb_1.13.0.tar.gz StartedAt: 2025-02-03 20:34:19 -0500 (Mon, 03 Feb 2025) EndedAt: 2025-02-03 20:35:08 -0500 (Mon, 03 Feb 2025) EllapsedTime: 48.1 seconds RetCode: 1 Status: ERROR CheckDir: biodbHmdb.Rcheck Warnings: NA