Package: biodbHmdb Version: 1.13.0 Command: /home/biocbuild/bbs-3.21-bioc/R/bin/R CMD INSTALL biodbHmdb StartedAt: 2025-02-09 15:11:32 -0500 (Sun, 09 Feb 2025) EndedAt: 2025-02-09 15:12:08 -0500 (Sun, 09 Feb 2025) EllapsedTime: 36.2 seconds RetCode: 0 Status: OK