Package: biodbHmdb Version: 1.13.0 Command: rm -rf biodbHmdb.buildbin-libdir && mkdir biodbHmdb.buildbin-libdir && E:\biocbuild\bbs-3.21-bioc\R\bin\R.exe CMD INSTALL --build --library=biodbHmdb.buildbin-libdir biodbHmdb_1.13.0.tar.gz StartedAt: 2025-02-10 07:18:51 -0500 (Mon, 10 Feb 2025) EndedAt: 2025-02-10 07:19:39 -0500 (Mon, 10 Feb 2025) EllapsedTime: 47.5 seconds RetCode: 0 Status: OK PackageFile: biodbHmdb_1.13.0.zip PackageFileSize: 980.5 KiB