Package: biodbHmdb Version: 1.13.0 Command: chmod a+r biodbHmdb -R && E:\biocbuild\bbs-3.21-bioc\R\bin\R.exe CMD build --keep-empty-dirs --no-resave-data biodbHmdb StartedAt: 2025-02-09 17:30:28 -0500 (Sun, 09 Feb 2025) EndedAt: 2025-02-09 17:32:02 -0500 (Sun, 09 Feb 2025) EllapsedTime: 94.2 seconds RetCode: 0 Status: OK PackageFile: biodbHmdb_1.13.0.tar.gz PackageFileSize: 405.9 KiB