Package: biodbUniprot Version: 1.13.0 Command: /Library/Frameworks/R.framework/Resources/bin/R CMD INSTALL biodbUniprot StartedAt: 2025-02-03 15:54:15 -0500 (Mon, 03 Feb 2025) EndedAt: 2025-02-03 15:54:18 -0500 (Mon, 03 Feb 2025) EllapsedTime: 3.1 seconds RetCode: 0 Status: OK