Package: biodbUniprot Version: 1.13.0 Command: rm -rf biodbUniprot.buildbin-libdir && mkdir biodbUniprot.buildbin-libdir && /Users/biocbuild/BBS/utils/build-universal.sh biodbUniprot_1.13.0.tar.gz /Library/Frameworks/R.framework/Resources/bin/R biodbUniprot.buildbin-libdir StartedAt: 2025-02-10 00:44:02 -0500 (Mon, 10 Feb 2025) EndedAt: 2025-02-10 00:44:16 -0500 (Mon, 10 Feb 2025) EllapsedTime: 14.0 seconds RetCode: 0 Status: OK PackageFile: biodbUniprot_1.13.0.tgz PackageFileSize: 492.6 KiB