Package: biodbUniprot Version: 1.13.0 Command: /Library/Frameworks/R.framework/Resources/bin/R CMD build --keep-empty-dirs --no-resave-data biodbUniprot StartedAt: 2025-02-09 16:03:44 -0500 (Sun, 09 Feb 2025) EndedAt: 2025-02-09 16:04:17 -0500 (Sun, 09 Feb 2025) EllapsedTime: 33.0 seconds RetCode: 0 Status: OK PackageFile: biodbUniprot_1.13.0.tar.gz PackageFileSize: 410.8 KiB