Package: biodbUniprot Version: 1.13.0 Command: chmod a+r biodbUniprot -R && E:\biocbuild\bbs-3.21-bioc\R\bin\R.exe CMD build --keep-empty-dirs --no-resave-data biodbUniprot StartedAt: 2025-02-09 17:30:50 -0500 (Sun, 09 Feb 2025) EndedAt: 2025-02-09 17:31:38 -0500 (Sun, 09 Feb 2025) EllapsedTime: 48.7 seconds RetCode: 0 Status: OK PackageFile: biodbUniprot_1.13.0.tar.gz PackageFileSize: 410.9 KiB