Package: biomaRt Version: 2.63.1 Command: rm -rf biomaRt.buildbin-libdir && mkdir biomaRt.buildbin-libdir && /Users/biocbuild/BBS/utils/build-universal.sh biomaRt_2.63.1.tar.gz /Library/Frameworks/R.framework/Resources/bin/R biomaRt.buildbin-libdir StartedAt: 2025-02-09 22:07:32 -0500 (Sun, 09 Feb 2025) EndedAt: 2025-02-09 22:07:39 -0500 (Sun, 09 Feb 2025) EllapsedTime: 7.2 seconds RetCode: 0 Status: OK PackageFile: biomaRt_2.63.1.tgz PackageFileSize: 932.1 KiB