Package: biomaRt Version: 2.63.1 Command: /Library/Frameworks/R.framework/Resources/bin/R CMD check --install=check:biomaRt.install-out.txt --library=/Library/Frameworks/R.framework/Resources/library --no-vignettes --timings biomaRt_2.63.1.tar.gz StartedAt: 2025-02-09 18:17:17 -0500 (Sun, 09 Feb 2025) EndedAt: 2025-02-09 18:18:16 -0500 (Sun, 09 Feb 2025) EllapsedTime: 58.7 seconds RetCode: 0 Status: OK CheckDir: biomaRt.Rcheck Warnings: 0