Package: biomaRt Version: 2.63.1 Command: /Library/Frameworks/R.framework/Resources/bin/R CMD INSTALL biomaRt StartedAt: 2025-02-09 15:13:10 -0500 (Sun, 09 Feb 2025) EndedAt: 2025-02-09 15:13:17 -0500 (Sun, 09 Feb 2025) EllapsedTime: 6.7 seconds RetCode: 0 Status: OK