Package: biomaRt Version: 2.63.0 Command: /home/biocbuild/R/R/bin/R CMD build --keep-empty-dirs --no-resave-data biomaRt StartedAt: 2025-01-28 21:18:40 -0000 (Tue, 28 Jan 2025) EndedAt: 2025-01-28 21:20:30 -0000 (Tue, 28 Jan 2025) EllapsedTime: 110.0 seconds RetCode: 0 Status: OK PackageFile: biomaRt_2.63.0.tar.gz PackageFileSize: 894.2 KiB