Package: biomaRt Version: 2.63.1 Command: /home/biocbuild/R/R/bin/R CMD INSTALL biomaRt StartedAt: 2025-01-29 20:00:59 -0000 (Wed, 29 Jan 2025) EndedAt: 2025-01-29 20:01:22 -0000 (Wed, 29 Jan 2025) EllapsedTime: 22.6 seconds RetCode: 0 Status: OK