Package: biomaRt Version: 2.63.1 Command: /Library/Frameworks/R.framework/Resources/bin/R CMD build --keep-empty-dirs --no-resave-data biomaRt StartedAt: 2025-02-09 16:03:59 -0500 (Sun, 09 Feb 2025) EndedAt: 2025-02-09 16:08:49 -0500 (Sun, 09 Feb 2025) EllapsedTime: 290.6 seconds RetCode: 0 Status: OK PackageFile: biomaRt_2.63.1.tar.gz PackageFileSize: 843.1 KiB