Package: biomaRt Version: 2.63.1 Command: /home/biocbuild/bbs-3.21-bioc/R/bin/R CMD build --keep-empty-dirs --no-resave-data biomaRt StartedAt: 2025-02-09 16:23:45 -0500 (Sun, 09 Feb 2025) EndedAt: 2025-02-09 16:25:12 -0500 (Sun, 09 Feb 2025) EllapsedTime: 86.1 seconds RetCode: 0 Status: OK PackageFile: biomaRt_2.63.1.tar.gz PackageFileSize: 843.3 KiB