Package: biomaRt Version: 2.63.1 Command: /home/biocbuild/bbs-3.21-bioc/R/bin/R CMD INSTALL biomaRt StartedAt: 2025-02-09 15:25:14 -0500 (Sun, 09 Feb 2025) EndedAt: 2025-02-09 15:25:31 -0500 (Sun, 09 Feb 2025) EllapsedTime: 16.4 seconds RetCode: 0 Status: OK