Package: biomaRt Version: 2.63.1 Command: rm -rf biomaRt.buildbin-libdir && mkdir biomaRt.buildbin-libdir && E:\biocbuild\bbs-3.21-bioc\R\bin\R.exe CMD INSTALL --build --library=biomaRt.buildbin-libdir biomaRt_2.63.1.tar.gz StartedAt: 2025-02-10 07:19:15 -0500 (Mon, 10 Feb 2025) EndedAt: 2025-02-10 07:20:19 -0500 (Mon, 10 Feb 2025) EllapsedTime: 64.7 seconds RetCode: 0 Status: OK PackageFile: biomaRt_2.63.1.zip PackageFileSize: 931.8 KiB