Package: biomaRt Version: 2.63.1 Command: chmod a+r biomaRt -R && E:\biocbuild\bbs-3.21-bioc\R\bin\R.exe CMD build --keep-empty-dirs --no-resave-data biomaRt StartedAt: 2025-02-09 17:30:53 -0500 (Sun, 09 Feb 2025) EndedAt: 2025-02-09 17:34:14 -0500 (Sun, 09 Feb 2025) EllapsedTime: 201.7 seconds RetCode: 0 Status: OK PackageFile: biomaRt_2.63.1.tar.gz PackageFileSize: 839.6 KiB