Package: biomaRt Version: 2.63.1 Command: E:\biocbuild\bbs-3.21-bioc\R\bin\R.exe CMD INSTALL biomaRt StartedAt: 2025-02-09 15:50:05 -0500 (Sun, 09 Feb 2025) EndedAt: 2025-02-09 15:50:56 -0500 (Sun, 09 Feb 2025) EllapsedTime: 50.9 seconds RetCode: 0 Status: OK