Package: biomformat Version: 1.35.0 Command: /home/biocbuild/R/R/bin/R CMD INSTALL biomformat StartedAt: 2025-01-29 19:37:41 -0000 (Wed, 29 Jan 2025) EndedAt: 2025-01-29 19:37:49 -0000 (Wed, 29 Jan 2025) EllapsedTime: 8.6 seconds RetCode: 0 Status: OK