Package: biomformat Version: 1.35.0 Command: /Library/Frameworks/R.framework/Resources/bin/R CMD INSTALL biomformat StartedAt: 2025-02-09 15:10:50 -0500 (Sun, 09 Feb 2025) EndedAt: 2025-02-09 15:11:01 -0500 (Sun, 09 Feb 2025) EllapsedTime: 11.1 seconds RetCode: 0 Status: OK