Package: biomformat Version: 1.35.0 Command: /home/biocbuild/bbs-3.21-bioc/R/bin/R CMD build --keep-empty-dirs --no-resave-data biomformat StartedAt: 2025-02-09 16:23:53 -0500 (Sun, 09 Feb 2025) EndedAt: 2025-02-09 16:24:04 -0500 (Sun, 09 Feb 2025) EllapsedTime: 11.0 seconds RetCode: 0 Status: OK PackageFile: biomformat_1.35.0.tar.gz PackageFileSize: 338.1 KiB